BEGIN:VCALENDAR
BEGIN:VEVENT
SUMMARY:Holy Wisdom LLC\, Dead Waves\, Tan Saturn\, DJ Nurse [nycnoise]
DTSTART:20250430T230000Z
DTEND:20250501T000000Z
UID:96e7e7ad-2b47-43a6-a70c-fb432c84f644
CREATED:20260420T145324Z
DESCRIPTION:
LOCATION:tv eye (1647 Weirfield St\, Ridgewood\, NY 11385)
END:VEVENT
END:VCALENDAR
