BEGIN:VCALENDAR
BEGIN:VEVENT
SUMMARY:Torture & The Desert Spiders Residency [nycnoise]
DTSTART:20250408T233000Z
DTEND:20250409T003000Z
UID:3ab4591a-7728-4f9c-a558-06bf68276d5c
CREATED:20260420T145502Z
DESCRIPTION:7pm doors
LOCATION:baker falls (192 Allen St\, New York\, NY 10002)
END:VEVENT
END:VCALENDAR
