BEGIN:VCALENDAR
BEGIN:VEVENT
SUMMARY:Jorge Sanders\, Hi Piss Velocity\, Nymph\, saintsteph4nie [nycnois
 e]
DTSTART:20250412T230000Z
DTEND:20250413T000000Z
UID:e4737b38-fac4-4769-b17e-ac6e8d60e70e
CREATED:20260420T145454Z
DESCRIPTION:6:30pm doors
LOCATION:hart bar (538 hart st.\, brooklyn)
END:VEVENT
END:VCALENDAR
