BEGIN:VCALENDAR
BEGIN:VEVENT
SUMMARY:Fortissssimo Piano Fest\, Night #1/3: Uri Caine [nycnoise]
DTSTART:20250425T000000Z
DTEND:20250425T010000Z
UID:f154aa4e-67b1-4b5d-83e2-f75df5160ecb
CREATED:20260420T145352Z
DESCRIPTION:
LOCATION:zürcher gallery (33 bleecker st.\, manhattan)
END:VEVENT
END:VCALENDAR
