BEGIN:VCALENDAR
BEGIN:VEVENT
SUMMARY:Fortissssimo Piano Fest\, Night #2/3: Han Chen [nycnoise]
DTSTART:20250426T000000Z
DTEND:20250426T010000Z
UID:320c4f0b-12e7-40c3-9c9e-cb133d3db9b5
CREATED:20260420T145601Z
DESCRIPTION:
LOCATION:zürcher gallery (33 bleecker st.\, manhattan)
END:VEVENT
END:VCALENDAR
