BEGIN:VCALENDAR
BEGIN:VEVENT
SUMMARY:Angelika Niescier & Tyshawn Sorey [nycnoise]
DTSTART:20250501T000000Z
DTEND:20250501T010000Z
UID:1ef05613-c087-4ebb-bf9b-78b7efdeab11
CREATED:20260420T145340Z
DESCRIPTION:
LOCATION:zürcher gallery (33 bleecker st.\, manhattan)
END:VEVENT
END:VCALENDAR
