BEGIN:VCALENDAR
BEGIN:VEVENT
SUMMARY:D.Treut 8 (Record Release)\, Ignabu\, Rob Bryn\, Bajus / Keane / S
 iegel / Shea [nycnoise]
DTSTART:20250507T233000Z
DTEND:20250508T003000Z
UID:7476ecb2-2b52-493e-a53a-872fc0352084
CREATED:20260420T145448Z
DESCRIPTION:7pm doors
LOCATION:main drag (before oct 2025) (50 s. 1st st.\, brooklyn)
END:VEVENT
END:VCALENDAR
