BEGIN:VCALENDAR
BEGIN:VEVENT
SUMMARY:Moses Sumney [nycnoise]
DTSTART:20250407T230000Z
DTEND:20250408T000000Z
UID:060caafe-590d-4cfd-8d9a-5c4afc7f3e88
CREATED:20260420T145451Z
DESCRIPTION:
LOCATION:pioneer works (159 pioneer st.\, brooklyn)
END:VEVENT
END:VCALENDAR
