BEGIN:VCALENDAR
BEGIN:VEVENT
SUMMARY:Dripping: Sun Ra Arkestra with Marshall Allen\, Colin Self\, Young
  Boy Dancing Group\, Cel Genesis\, Relaxer b2b Baby Leo [nycnoise]
DTSTART:20250620T230000Z
DTEND:20250621T000000Z
UID:e0318e1b-28dd-4fb0-95dc-1449fedf2529
CREATED:20260420T145414Z
DESCRIPTION:6pm doors
LOCATION:pioneer works (159 pioneer st.\, brooklyn)
END:VEVENT
END:VCALENDAR
