BEGIN:VCALENDAR
BEGIN:VEVENT
SUMMARY:Bamm Bamm presents: Godcaster\, Macula Dog\, DJ Cole Haden\, Body 
 Liars [nycnoise]
DTSTART:20250430T000000Z
DTEND:20250430T010000Z
UID:363eff33-d00e-47d4-b8e2-5de2ac26548d
CREATED:20260420T145552Z
DESCRIPTION:7pm doors
LOCATION:night club 101 (101 avenue a\, manhattan)
END:VEVENT
END:VCALENDAR
