BEGIN:VCALENDAR
BEGIN:VEVENT
SUMMARY:Um Jennifer? (Album Release)\, Pop Music Fever Dream [nycnoise]
DTSTART:20250426T000000Z
DTEND:20250426T010000Z
UID:8b53e9d8-600f-47e1-8823-561237a57a1d
CREATED:20260420T145540Z
DESCRIPTION:7pm doors
LOCATION:night club 101 (101 avenue a\, manhattan)
END:VEVENT
END:VCALENDAR
