BEGIN:VCALENDAR
BEGIN:VEVENT
SUMMARY:Gloorp (Album Release)\, Pamela_ and her sons (live)\, Cube (live)
 \, DJ Eve Swords [nycnoise]
DTSTART:20250425T020000Z
DTEND:20250425T030000Z
UID:2ebf03ed-5ac5-489f-8161-496740e608ec
CREATED:20260420T145600Z
DESCRIPTION:
LOCATION:night club 101 (101 avenue a\, manhattan)
END:VEVENT
END:VCALENDAR
