BEGIN:VCALENDAR
BEGIN:VEVENT
SUMMARY:Elisha ft. Avishai Rozen (live)\, AGAT (live)\, Aviad (DJ) [nycnoi
 se]
DTSTART:20250402T230000Z
DTEND:20250403T000000Z
UID:562c403f-8813-4e1e-af39-54e5dd8874b2
CREATED:20260420T145501Z
DESCRIPTION:
LOCATION:sultan room (234 starr st.\, brooklyn)
END:VEVENT
END:VCALENDAR
