BEGIN:VCALENDAR
BEGIN:VEVENT
SUMMARY:Immaterial Possession\, Evil Sword\, The Cradle\, Zannie [nycnoise
 ]
DTSTART:20250418T230000Z
DTEND:20250419T000000Z
UID:f24cc877-9e17-42be-838d-e71efcec1728
CREATED:20260420T145256Z
DESCRIPTION:
LOCATION:alphaville (140 wilson ave\, brooklyn)
END:VEVENT
END:VCALENDAR
