BEGIN:VCALENDAR
BEGIN:VEVENT
SUMMARY:Emilio Modeste presents INSTANT ALTER (ft. Kassa Overall\, Black B
 uttafly) [nycnoise]
DTSTART:20250403T000000Z
DTEND:20250403T010000Z
UID:8739e4f5-2c5c-49f5-89a3-58d2da6b886b
CREATED:20260420T145355Z
DESCRIPTION:7pm / $30 doors\; LIVESTREAM\; IA: EM\, Natasha Agrama\, Migue
 l Russell\, Ryoma Takenaga
LOCATION:roulette (509 atlantic ave\, brooklyn)
END:VEVENT
END:VCALENDAR
