BEGIN:VCALENDAR
BEGIN:VEVENT
SUMMARY:Marshall Allen & the New Dawn [nycnoise]
DTSTART:20250406T000000Z
DTEND:20250406T010000Z
UID:f532731c-a8a9-4f77-8a55-af3bb6fcc95c
CREATED:20260420T145411Z
DESCRIPTION:7pm / $55 doors\; MA w/ Knoel Scott\, Bruce Edwards\, RaDu Ben
 \, Cecil Brooks\, George Gray\, Owen Brown Jr\, Derek Washington\, Michael
  Ireland\, Ginger Smith\, Rochelle Thompson\; LIVESTREAM
LOCATION:roulette (509 atlantic ave\, brooklyn)
END:VEVENT
END:VCALENDAR
