BEGIN:VCALENDAR
BEGIN:VEVENT
SUMMARY:Stephan Crump: Slow Water [nycnoise]
DTSTART:20250410T000000Z
DTEND:20250410T010000Z
UID:df1b1d64-fc1f-4a47-8489-f687707db5b1
CREATED:20260420T145415Z
DESCRIPTION:7pm / $30 doors\; SC w/ Patricia Brennan\, Carrie Frey\, Erica
  Dicker\, Jacob Garchik\, Kenny Warren
LOCATION:roulette (509 atlantic ave\, brooklyn)
END:VEVENT
END:VCALENDAR
