BEGIN:VCALENDAR
BEGIN:VEVENT
SUMMARY:Interpretations: Anthony Davis / Earl Howard / Gerry Hemingway / K
 yle Motl [nycnoise]
DTSTART:20250411T000000Z
DTEND:20250411T010000Z
UID:3f356645-2b49-4d84-a534-af276476b8da
CREATED:20260420T145321Z
DESCRIPTION:7pm doors
LOCATION:roulette (509 atlantic ave\, brooklyn)
END:VEVENT
END:VCALENDAR
