BEGIN:VCALENDAR
BEGIN:VEVENT
SUMMARY:claire rousay + more eaze: no floor [nycnoise]
DTSTART:20250414T000000Z
DTEND:20250414T010000Z
UID:fd78ba66-759b-450a-a498-4889b6a91abf
CREATED:20260420T145559Z
DESCRIPTION:7pm / $30 doors
LOCATION:roulette (509 atlantic ave\, brooklyn)
END:VEVENT
END:VCALENDAR
