BEGIN:VCALENDAR
BEGIN:VEVENT
SUMMARY:Nicole Mitchell Quartet: JAD (w/ Orrin Evans\, Rashaan Carter\, Ch
 ad Taylor) [nycnoise]
DTSTART:20250418T000000Z
DTEND:20250418T010000Z
UID:de448e8f-6dfe-41c1-8bca-05c066116e6e
CREATED:20260420T145327Z
DESCRIPTION:7pm / $30 doors
LOCATION:roulette (509 atlantic ave\, brooklyn)
END:VEVENT
END:VCALENDAR
