BEGIN:VCALENDAR
BEGIN:VEVENT
SUMMARY:FourOneOne at Roulette: Alexis Lombre & Georgia Anne Muldrow [nycn
 oise]
DTSTART:20250419T000000Z
DTEND:20250419T010000Z
UID:dd60c3a0-4792-4927-862a-7f0d2e336bf9
CREATED:20260420T145405Z
DESCRIPTION:7pm / $30 doors
LOCATION:roulette (509 atlantic ave\, brooklyn)
END:VEVENT
END:VCALENDAR
