BEGIN:VCALENDAR
BEGIN:VEVENT
SUMMARY:PLAY ME TECHNO & TELL ME IM PRETTY: SKIN CONTACT\, OCTI\, Dinahfir
 e\, DOLLNXTDOOR\, thembow\, Akira Uchida & Serena Wolman [nycnoise]
DTSTART:20250406T020000Z
DTEND:20250406T030000Z
UID:88963da4-a2e8-4c26-b177-16bcc86de1e9
CREATED:20260420T145336Z
DESCRIPTION:"experimental performance &amp\; bodily autonomy"
LOCATION:<p><strong>ticket for address&nbsp\;</strong>(18+)</p>
END:VEVENT
END:VCALENDAR
