BEGIN:VCALENDAR
BEGIN:VEVENT
SUMMARY:Henry Fraser\, Miriam Elhajli [nycnoise]
DTSTART:20250425T000000Z
DTEND:20250425T010000Z
UID:e69ee5c3-1f08-4b2c-9277-29fa0ff5ff02
CREATED:20260420T145454Z
DESCRIPTION:7pm / $30 doors
LOCATION:roulette (509 atlantic ave\, brooklyn)
END:VEVENT
END:VCALENDAR
