BEGIN:VCALENDAR
BEGIN:VEVENT
SUMMARY:Squanderers (Wendy Eisenberg\, David Grubbs\, Kramer)\, Lea Bertuc
 ci / Henry Fraser / Cleek Schrey / Ben Vida [nycnoise]
DTSTART:20250501T000000Z
DTEND:20250501T010000Z
UID:a91255a3-3b87-48a2-96b2-e00b0ff1a15e
CREATED:20260420T145321Z
DESCRIPTION:7pm / $30 doors
LOCATION:roulette (509 atlantic ave\, brooklyn)
END:VEVENT
END:VCALENDAR
