BEGIN:VCALENDAR
BEGIN:VEVENT
SUMMARY:Selendis Sebastian Alexander Johnson Big Band\, Alfredo Colón Qui
 ntet [nycnoise]
DTSTART:20250515T000000Z
DTEND:20250515T010000Z
UID:9abf377f-af8b-432a-bf0a-8ec8d3586065
CREATED:20260420T145247Z
DESCRIPTION:7pm / $30 doors\; AC5 w/ Ryan Easter\, Lex Korten\, Steve Will
 iams\, Connor Parks
LOCATION:roulette (509 atlantic ave\, brooklyn)
END:VEVENT
END:VCALENDAR
