BEGIN:VCALENDAR
BEGIN:VEVENT
SUMMARY:Currents 2025: Yarn/Wire plays works by Ashkan Behzadi & Kari Wats
 on [nycnoise]
DTSTART:20250522T000000Z
DTEND:20250522T010000Z
UID:66d1fbb8-d31b-4b58-9615-32aeeee8bfe2
CREATED:20260420T145319Z
DESCRIPTION:7pm / $30 doors\;&nbsp\;Y/W: Laura Barger\, Julia Den Boer\, R
 ussell Greenberg\, Dennis Sullivan
LOCATION:roulette (509 atlantic ave\, brooklyn)
END:VEVENT
END:VCALENDAR
