BEGIN:VCALENDAR
BEGIN:VEVENT
SUMMARY:$50 [nycnoise]
DTSTART:20250524T000000Z
DTEND:20250524T010000Z
UID:9d746014-759d-46c2-8358-abb0ed3fe4d7
CREATED:20260420T145502Z
DESCRIPTION:John Zorn: New Masada Quartet\; 7pm box office opens for stand
 by
LOCATION:roulette (509 atlantic ave\, brooklyn)
END:VEVENT
END:VCALENDAR
