BEGIN:VCALENDAR
BEGIN:VEVENT
SUMMARY:Nava Dunkelman: Arrhythmia [nycnoise]
DTSTART:20250611T000000Z
DTEND:20250611T010000Z
UID:7aae1c2c-4ad1-40c1-8a63-721d5f11c7d9
CREATED:20260420T145457Z
DESCRIPTION:7pm / $30 doors\; ND (also here on voice!!) w/ Maria Takeuchi\
 , Yoko Murakami\, Akiha Yamakami
LOCATION:roulette (509 atlantic ave\, brooklyn)
END:VEVENT
END:VCALENDAR
