BEGIN:VCALENDAR
BEGIN:VEVENT
SUMMARY:Marc Ribot (Record Release\; w/ Shahzad Ismaily) [nycnoise]
DTSTART:20250612T000000Z
DTEND:20250612T010000Z
UID:9dcbe356-180c-4796-8027-127110aa68a9
CREATED:20260420T145246Z
DESCRIPTION:7pm / $30 doors
LOCATION:roulette (509 atlantic ave\, brooklyn)
END:VEVENT
END:VCALENDAR
