BEGIN:VCALENDAR
BEGIN:VEVENT
SUMMARY:Wet Ink Ensemble: Ft. & compositions by Gelsey Bell\, Carolyn Chen
 \, Ben LaMar Gay\, Aurora Nealand [nycnoise]
DTSTART:20250614T000000Z
DTEND:20250614T010000Z
UID:67d4385c-d868-4c52-9034-54a348825e96
CREATED:20260420T145602Z
DESCRIPTION:7pm / $30 doors\; WI: Erin Lesser\, Alex Mincek\, Ian Antonio\
 , Eric Wubbels\, Modney\, Mariel Roberts Musa\, Sam Pluta\, Kate Soper
LOCATION:roulette (509 atlantic ave\, brooklyn)
END:VEVENT
END:VCALENDAR
