BEGIN:VCALENDAR
BEGIN:VEVENT
SUMMARY:Be Ever Out\, Night #2/2: The Music of Henry Threadgill: The Sexte
 tt\, Make a Move [nycnoise]
DTSTART:20250622T000000Z
DTEND:20250622T010000Z
UID:95b5308b-c4b0-4465-8181-6d1931bc1b06
CREATED:20260420T145254Z
DESCRIPTION:7pm\; TS: Frank Lacy\, Mike Lee\, Brian Simontacci\, Christoph
 er Hoffman\, James Robbins\, Pheeroan akLaff\; MaM: Brandon Ross\, Darius 
 Jones\, David Virelles\, Stomu Takeishi\, JT Lewis +++ $10 discount w/ cod
 e "EVEROUT10" (presale only)
LOCATION:roulette (509 atlantic ave\, brooklyn)
END:VEVENT
END:VCALENDAR
