BEGIN:VCALENDAR
BEGIN:VEVENT
SUMMARY:Holland Andrews: parallels / deep touch / generational cavalry [ny
 cnoise]
DTSTART:20250627T000000Z
DTEND:20250627T010000Z
UID:2ace968d-1949-45e9-a9b3-f93ad4ab22e6
CREATED:20260420T145321Z
DESCRIPTION:7pm / $30 doors
LOCATION:roulette (509 atlantic ave\, brooklyn)
END:VEVENT
END:VCALENDAR
