BEGIN:VCALENDAR
BEGIN:VEVENT
SUMMARY:Abasement 77: I.U.D.\, Eucademix\, Dave Miko\, DJ: Superkraut!\, D
 Js Pia Dehne & Mark Ohe\, Cable Visions (visuals) [nycnoise]
DTSTART:20250407T230000Z
DTEND:20250408T000000Z
UID:57f3b307-25cc-4cf6-b97d-c925373c6da0
CREATED:20260420T145252Z
DESCRIPTION:
LOCATION:artists space (11 cortlandt alley\, manhattan)
END:VEVENT
END:VCALENDAR
