BEGIN:VCALENDAR
BEGIN:VEVENT
SUMMARY:DMG Free Tues: Stan Zenkov / Patrick Holmes / Dave Miller\, Trevor
  Bajus / Nick Gianni / Dmitry Ishenko / Mike Golub\, Nikita Manin\, Lisa C
 ameron / Eli Wallace / Drew Weseley / Nick Neuberg [nycnoise]
DTSTART:20250415T223000Z
DTEND:20250415T233000Z
UID:7b9b1654-89c2-4924-a77c-2aabc47aaa32
CREATED:20260420T145549Z
DESCRIPTION:
LOCATION:downtown music gallery (13 monroe st.\, manhattan)
END:VEVENT
END:VCALENDAR
