BEGIN:VCALENDAR
BEGIN:VEVENT
SUMMARY:DMG Free Tues x Relative Pitch Records: Duos & Trio: AR\, Chuck Ro
 th\, Nava Dunkelman [nycnoise]
DTSTART:20250422T223000Z
DTEND:20250422T233000Z
UID:c3d14291-7bfc-4753-994e-321fe6a5f538
CREATED:20260420T145453Z
DESCRIPTION:
LOCATION:downtown music gallery (13 monroe st.\, manhattan)
END:VEVENT
END:VCALENDAR
