BEGIN:VCALENDAR
BEGIN:VEVENT
SUMMARY:DMG Free Tues: Patrick Golden / Jim Clouse / Adam Lane\, Michael E
 aton Trio (w/ Max Kutner\, Nick Neuberg)\, Juan Pablo Carletti Biggish [ny
 cnoise]
DTSTART:20250520T223000Z
DTEND:20250520T233000Z
UID:7551dc4f-d0e8-483d-a976-152644927629
CREATED:20260420T145300Z
DESCRIPTION:Biggish w/ Yoni Kretzmer\, Kenny Warren\, Rick Parker\, Christ
 of Knoche\, Peter Bitenc
LOCATION:downtown music gallery (13 monroe st.\, manhattan)
END:VEVENT
END:VCALENDAR
