BEGIN:VCALENDAR
BEGIN:VEVENT
SUMMARY:DMG Free Tues: Chet Doxas & Ole Mathison\, s0nic 0penings (patrick
  brennan\, Jason Kao Hwang\, Hilliard Greene\, Michael T.A. Thompson)\, Ay
 umi Ishito & Kate Mohanty\, Craig Flanagan / Normandy Sherwood / Kevin She
 a [nycnoise]
DTSTART:20250610T223000Z
DTEND:20250610T233000Z
UID:f541e064-3a47-408e-ae9c-a44c68a1dcd8
CREATED:20260420T145248Z
DESCRIPTION:
LOCATION:downtown music gallery (13 monroe st.\, manhattan)
END:VEVENT
END:VCALENDAR
