BEGIN:VCALENDAR
BEGIN:VEVENT
SUMMARY:Fusilier (LP Release)\, Cleo Reed\, Katzin\, sandile\, Philip Morg
 an (DJ) [nycnoise]
DTSTART:20250409T230000Z
DTEND:20250410T000000Z
UID:43f1f456-b898-4732-828d-19a8767138e2
CREATED:20260420T145454Z
DESCRIPTION:
LOCATION:public records' sound room (233 butler st.\, brooklyn)
END:VEVENT
END:VCALENDAR
