BEGIN:VCALENDAR
BEGIN:VEVENT
SUMMARY:Becca Stevens\, Chase Elodia [nycnoise]
DTSTART:20250410T230000Z
DTEND:20250411T000000Z
UID:3b73fcd8-33b6-44e7-87bc-b04cf4a3e568
CREATED:20260420T145346Z
DESCRIPTION:
LOCATION:public records' sound room (233 butler st.\, brooklyn)
END:VEVENT
END:VCALENDAR
