BEGIN:VCALENDAR
BEGIN:VEVENT
SUMMARY:International Anthem x Qobuz present: Ibelisse Guardia Ferragutti 
 & Frank Rosaly: MESTIZX\, Jeremiah Chiu [nycnoise]
DTSTART:20250401T230000Z
DTEND:20250402T000000Z
UID:7f7757f8-f707-462a-bdc2-07d2c04e4f6d
CREATED:20260420T145418Z
DESCRIPTION:
LOCATION:public records' sound room (233 butler st.\, brooklyn)
END:VEVENT
END:VCALENDAR
