BEGIN:VCALENDAR
BEGIN:VEVENT
SUMMARY:HxH Album Release Listening Party [nycnoise]
DTSTART:20250413T000000Z
DTEND:20250413T010000Z
UID:0c77c87d-1df1-4a52-a896-735371b1bb2c
CREATED:20260420T145601Z
DESCRIPTION:not sure if anything's "live\," confirming asap
LOCATION:public records' upstairs (233 butler st.\, brooklyn)
END:VEVENT
END:VCALENDAR
