BEGIN:VCALENDAR
BEGIN:VEVENT
SUMMARY:Peter Matson presents Hotel PM (w/ JKriv\, Vito Roccoforte\, Sly5t
 hAve\, Domenica) & more [nycnoise]
DTSTART:20250418T010000Z
DTEND:20250418T020000Z
UID:546505f4-3af2-4206-a2c3-de94fa772e98
CREATED:20260420T145327Z
DESCRIPTION:Guest artists &amp\; DJs: Kendra Morris\, Underground System\,
  Phenomenal Handclap Band\, Mickey Perez\, Kiku Enomoto
LOCATION:public records' sound room (233 butler st.\, brooklyn)
END:VEVENT
END:VCALENDAR
