BEGIN:VCALENDAR
BEGIN:VEVENT
SUMMARY:Circuit des Yeux\, LEYA\, Vorhees [nycnoise]
DTSTART:20250419T230000Z
DTEND:20250420T000000Z
UID:36137898-fe7c-4ef0-a0bb-cf775cd1b96b
CREATED:20260420T145253Z
DESCRIPTION:
LOCATION:public records' sound room (233 butler st.\, brooklyn)
END:VEVENT
END:VCALENDAR
