BEGIN:VCALENDAR
BEGIN:VEVENT
SUMMARY:Long Play: Valentina Magaletti [nycnoise]
DTSTART:20250502T230000Z
DTEND:20250503T000000Z
UID:80dfef35-d4df-4cbb-961b-1609c6b2d263
CREATED:20260420T145334Z
DESCRIPTION:full fest
LOCATION:public records' sound room (233 butler st.\, brooklyn)
END:VEVENT
END:VCALENDAR
