BEGIN:VCALENDAR
BEGIN:VEVENT
SUMMARY:Wrekmeister Harmonies\, Greg Fox [nycnoise]
DTSTART:20250605T230000Z
DTEND:20250606T000000Z
UID:1055d78c-6bae-479d-9343-16e3e2f6640e
CREATED:20260420T145245Z
DESCRIPTION:
LOCATION:public records' sound room (233 butler st.\, brooklyn)
END:VEVENT
END:VCALENDAR
