BEGIN:VCALENDAR
BEGIN:VEVENT
SUMMARY:Eucademix (Yuka Honda) & azumi O E [nycnoise]
DTSTART:20250420T000000Z
DTEND:20250420T010000Z
UID:b1b565d0-948c-48c8-ae8d-3d855f3849e7
CREATED:20260420T144953Z
DESCRIPTION:
LOCATION:issue project room (22 boerum place\, brooklyn)
END:VEVENT
END:VCALENDAR
