BEGIN:VCALENDAR
BEGIN:VEVENT
SUMMARY:Anna RG: 'AIR CHANGE PER HOUR' [nycnoise]
DTSTART:20250425T000000Z
DTEND:20250425T010000Z
UID:a408b9b2-ceb6-4a37-805f-f43097204b6a
CREATED:20260420T145319Z
DESCRIPTION:😷 masks requested\, 🔄 air purifiers\, 🧏🏻&zwj\;♀
 ️ live cart transcription &amp\; description\; RG "ft. Dave Ruder &amp\;
  Slic\, &amp\; writing by Jenna Bitar. They will be joined by a group of d
 isabled / chronically ill artists performing 'Scores for Sick Music.' The 
 bed performers may or may not be present."
LOCATION:issue project room (22 boerum place\, brooklyn)
END:VEVENT
END:VCALENDAR
