BEGIN:VCALENDAR
BEGIN:VEVENT
SUMMARY:Sarah Hennies & Tristan Kasten-Krause (LP Release) [nycnoise]
DTSTART:20250501T000000Z
DTEND:20250501T010000Z
UID:af1c40b0-559d-4bc7-ba82-543bc88fffab
CREATED:20260420T145325Z
DESCRIPTION:
LOCATION:issue project room (22 boerum place\, brooklyn)
END:VEVENT
END:VCALENDAR
