BEGIN:VCALENDAR
BEGIN:VEVENT
SUMMARY:Milk & Cookies #1: Matias E.A / Lulu West / Paul Sakai\, Josh Math
 ews\, Ayumi Ishito / Nathan Chamberlain / Jaguar Psychosis [nycnoise]
DTSTART:20250409T230000Z
DTEND:20250410T000000Z
UID:fc967c7e-c561-41c9-aa7b-475802ecd98f
CREATED:20260420T145357Z
DESCRIPTION:🇵🇸 PACBI +++&nbsp\;post
LOCATION:brothers wash & dry laundromat (5420 nurge ave\, queens)
END:VEVENT
END:VCALENDAR
