BEGIN:VCALENDAR
BEGIN:VEVENT
SUMMARY:Benjamin Sutin's Klazz-Ma-Taz\, Sunjay Jayaram Trio [nycnoise]
DTSTART:20250403T000000Z
DTEND:20250403T010000Z
UID:82144299-a400-4756-97f8-f40b946a4ab3
CREATED:20260420T145329Z
DESCRIPTION:
LOCATION:threes brewing (333 douglass st.\, brooklyn)
END:VEVENT
END:VCALENDAR
